BEGIN:VCALENDAR
VERSION:2.0
CALSCALE:GREGORIAN
PRODID:-//Diputació de Barcelona//DibaCMS//EN
BEGIN:VEVENT
UID:23182
DTSTAMP:20260423T145813
DTSTART:20110204T153000
DTEND:20110204T000000
SUMMARY:L'oci i el mar
LOCATION:
METHOD:PUBLISH
X-WR-CALNAME:e-seu@ajpiera.cat
X-WR-TIMEZONE:Europe/Madrid
DESCRIPTION:L'oci i el mar
URI:https://www.viladepiera.cat/actualitat/agenda/loci-i-el-mar.html
CLASS:PUBLIC
END:VEVENT
END:VCALENDAR
