BEGIN:VCALENDAR
VERSION:2.0
CALSCALE:GREGORIAN
PRODID:-//Diputació de Barcelona//DibaCMS//EN
BEGIN:VEVENT
UID:23183
DTSTAMP:20260423T161424
DTSTART:20110204T000000
DTEND:20110206T000000
SUMMARY:Festes de Sant Nicasi
LOCATION:
METHOD:PUBLISH
X-WR-CALNAME:e-seu@ajpiera.cat
X-WR-TIMEZONE:Europe/Madrid
DESCRIPTION:Festes de Sant Nicasi

URI:https://www.viladepiera.cat/actualitat/agenda/festes-de-sant-nicasi.html
CLASS:PUBLIC
END:VEVENT
END:VCALENDAR
