BEGIN:VCALENDAR
VERSION:2.0
CALSCALE:GREGORIAN
PRODID:-//Diputació de Barcelona//DibaCMS//EN
BEGIN:VEVENT
UID:23185
DTSTAMP:20260423T095046
DTSTART:20110206T123000
DTEND:20110206T000000
SUMMARY:Reunió-vermut de l'Associació de Dones
LOCATION:
METHOD:PUBLISH
X-WR-CALNAME:e-seu@ajpiera.cat
X-WR-TIMEZONE:Europe/Madrid
DESCRIPTION:Reunió-vermut de l'Associació de Dones
URI:https://www.viladepiera.cat/actualitat/agenda/23185-reunio-vermut-de-lassociacio-de-dones.html
CLASS:PUBLIC
END:VEVENT
END:VCALENDAR
