BEGIN:VCALENDAR
VERSION:2.0
CALSCALE:GREGORIAN
PRODID:-//Diputació de Barcelona//DibaCMS//EN
BEGIN:VEVENT
UID:23191
DTSTAMP:20260423T144655
DTSTART:20110212T000000
DTEND:20110213T000000
SUMMARY:Mans Unides Contra la Fam
LOCATION:
METHOD:PUBLISH
X-WR-CALNAME:e-seu@ajpiera.cat
X-WR-TIMEZONE:Europe/Madrid
DESCRIPTION:Mans Unides Contra la Fam
URI:https://www.viladepiera.cat/actualitat/agenda/mans-unides-contra-la-fam.html
CLASS:PUBLIC
END:VEVENT
END:VCALENDAR
