BEGIN:VCALENDAR
VERSION:2.0
CALSCALE:GREGORIAN
PRODID:-//Diputació de Barcelona//DibaCMS//EN
BEGIN:VEVENT
UID:23192
DTSTAMP:20260423T110906
DTSTART:20110212T230000
DTEND:20110212T000000
SUMMARY:Festa disco
LOCATION:
METHOD:PUBLISH
X-WR-CALNAME:e-seu@ajpiera.cat
X-WR-TIMEZONE:Europe/Madrid
DESCRIPTION:Festa disco
URI:https://www.viladepiera.cat/actualitat/agenda/festa-disco.html
CLASS:PUBLIC
END:VEVENT
END:VCALENDAR
