BEGIN:VCALENDAR
VERSION:2.0
CALSCALE:GREGORIAN
PRODID:-//Diputació de Barcelona//DibaCMS//EN
BEGIN:VEVENT
UID:23199
DTSTAMP:20260423T143856
DTSTART:20110218T190000
DTEND:20110218T000000
SUMMARY:Una dècada d'Òscars
LOCATION:
METHOD:PUBLISH
X-WR-CALNAME:e-seu@ajpiera.cat
X-WR-TIMEZONE:Europe/Madrid
DESCRIPTION:Una dècada d'Òscars
URI:https://www.viladepiera.cat/actualitat/agenda/una-decada-doscars.html
CLASS:PUBLIC
END:VEVENT
END:VCALENDAR
