BEGIN:VCALENDAR
VERSION:2.0
CALSCALE:GREGORIAN
PRODID:-//Diputació de Barcelona//DibaCMS//EN
BEGIN:VEVENT
UID:23204
DTSTAMP:20260423T105634
DTSTART:20110220T103000
DTEND:20110220T140000
SUMMARY:Ràdio Piera (Portes obertes)
LOCATION:
METHOD:PUBLISH
X-WR-CALNAME:e-seu@ajpiera.cat
X-WR-TIMEZONE:Europe/Madrid
DESCRIPTION:Ràdio Piera (Portes obertes)
URI:https://www.viladepiera.cat/actualitat/agenda/radio-piera-portes-obertes.html
CLASS:PUBLIC
END:VEVENT
END:VCALENDAR
