BEGIN:VCALENDAR
VERSION:2.0
CALSCALE:GREGORIAN
PRODID:-//Diputació de Barcelona//DibaCMS//EN
BEGIN:VEVENT
UID:23206
DTSTAMP:20260423T105750
DTSTART:20110223T153000
DTEND:20110223T163000
SUMMARY:Berenar multicultural
LOCATION:
METHOD:PUBLISH
X-WR-CALNAME:e-seu@ajpiera.cat
X-WR-TIMEZONE:Europe/Madrid
DESCRIPTION:Berenar multicultural
URI:https://www.viladepiera.cat/actualitat/agenda/23206-berenar-multicultural.html
CLASS:PUBLIC
END:VEVENT
END:VCALENDAR
