BEGIN:VCALENDAR
VERSION:2.0
CALSCALE:GREGORIAN
PRODID:-//Diputació de Barcelona//DibaCMS//EN
BEGIN:VEVENT
UID:23207
DTSTAMP:20260423T104757
DTSTART:20110223T203000
DTEND:20110223T000000
SUMMARY:Reunió Carnaval 
LOCATION:
METHOD:PUBLISH
X-WR-CALNAME:e-seu@ajpiera.cat
X-WR-TIMEZONE:Europe/Madrid
DESCRIPTION:Reunió Carnaval 
URI:https://www.viladepiera.cat/actualitat/agenda/reunio-carnaval-.html
CLASS:PUBLIC
END:VEVENT
END:VCALENDAR
