BEGIN:VCALENDAR
VERSION:2.0
CALSCALE:GREGORIAN
PRODID:-//Diputació de Barcelona//DibaCMS//EN
BEGIN:VEVENT
UID:23208
DTSTAMP:20260423T161456
DTSTART:20110224T180000
DTEND:20110224T000000
SUMMARY:Espectacle infantil
LOCATION:
METHOD:PUBLISH
X-WR-CALNAME:e-seu@ajpiera.cat
X-WR-TIMEZONE:Europe/Madrid
DESCRIPTION:Espectacle infantil
URI:https://www.viladepiera.cat/actualitat/agenda/espectacle-infantil.html
CLASS:PUBLIC
END:VEVENT
END:VCALENDAR
