BEGIN:VCALENDAR
VERSION:2.0
CALSCALE:GREGORIAN
PRODID:-//Diputació de Barcelona//DibaCMS//EN
BEGIN:VEVENT
UID:23216
DTSTAMP:20260423T061114
DTSTART:20110303T190000
DTEND:20110303T000000
SUMMARY:Travessa dels Òscar: lliurament de premis
LOCATION:
METHOD:PUBLISH
X-WR-CALNAME:e-seu@ajpiera.cat
X-WR-TIMEZONE:Europe/Madrid
DESCRIPTION:Travessa dels Òscar: lliurament de premis
URI:https://www.viladepiera.cat/actualitat/agenda/travessa-dels-oscar-lliurament-de-premis.html
CLASS:PUBLIC
END:VEVENT
END:VCALENDAR
