BEGIN:VCALENDAR
VERSION:2.0
CALSCALE:GREGORIAN
PRODID:-//Diputació de Barcelona//DibaCMS//EN
BEGIN:VEVENT
UID:23219
DTSTAMP:20260423T110616
DTSTART:20110304T170000
DTEND:20110304T000000
SUMMARY:Rua Llar d'infants
LOCATION:
METHOD:PUBLISH
X-WR-CALNAME:e-seu@ajpiera.cat
X-WR-TIMEZONE:Europe/Madrid
DESCRIPTION:Rua Llar d'infants
URI:https://www.viladepiera.cat/actualitat/agenda/rua-llar-dinfants.html
CLASS:PUBLIC
END:VEVENT
END:VCALENDAR
