BEGIN:VCALENDAR
VERSION:2.0
CALSCALE:GREGORIAN
PRODID:-//Diputació de Barcelona//DibaCMS//EN
BEGIN:VEVENT
UID:23220
DTSTAMP:20260423T054740
DTSTART:20110304T070000
DTEND:20110304T223000
SUMMARY:Concurs de disfresses
LOCATION:
METHOD:PUBLISH
X-WR-CALNAME:e-seu@ajpiera.cat
X-WR-TIMEZONE:Europe/Madrid
DESCRIPTION:Concurs de disfresses
URI:https://www.viladepiera.cat/actualitat/agenda/concurs-de-disfresses.html
CLASS:PUBLIC
END:VEVENT
END:VCALENDAR
