BEGIN:VCALENDAR
VERSION:2.0
CALSCALE:GREGORIAN
PRODID:-//Diputació de Barcelona//DibaCMS//EN
BEGIN:VEVENT
UID:23224
DTSTAMP:20260423T071653
DTSTART:20110306T123000
DTEND:20110306T000000
SUMMARY:Reunió-vermut de l'Associació de Dones
LOCATION:
METHOD:PUBLISH
X-WR-CALNAME:e-seu@ajpiera.cat
X-WR-TIMEZONE:Europe/Madrid
DESCRIPTION:Reunió-vermut de l'Associació de Dones
URI:https://www.viladepiera.cat/actualitat/agenda/23224-reunio-vermut-de-lassociacio-de-dones.html
CLASS:PUBLIC
END:VEVENT
END:VCALENDAR
