BEGIN:VCALENDAR
VERSION:2.0
CALSCALE:GREGORIAN
PRODID:-//Diputació de Barcelona//DibaCMS//EN
BEGIN:VEVENT
UID:23228
DTSTAMP:20260423T083713
DTSTART:20110307T000000
DTEND:20110307T000000
SUMMARY:Concurs de Cartells (últim dia)
LOCATION:
METHOD:PUBLISH
X-WR-CALNAME:e-seu@ajpiera.cat
X-WR-TIMEZONE:Europe/Madrid
DESCRIPTION:Concurs de Cartells (últim dia)
URI:https://www.viladepiera.cat/actualitat/agenda/concurs-de-cartells-ultim-dia.html
CLASS:PUBLIC
END:VEVENT
END:VCALENDAR
