BEGIN:VCALENDAR
VERSION:2.0
CALSCALE:GREGORIAN
PRODID:-//Diputació de Barcelona//DibaCMS//EN
BEGIN:VEVENT
UID:23233
DTSTAMP:20260423T044424
DTSTART:20110312T000000
DTEND:20110312T000000
SUMMARY:Dia d'Andalusia a Can Canals
LOCATION:
METHOD:PUBLISH
X-WR-CALNAME:e-seu@ajpiera.cat
X-WR-TIMEZONE:Europe/Madrid
DESCRIPTION:Dia d'Andalusia a Can Canals
URI:https://www.viladepiera.cat/actualitat/agenda/23233-dia-dandalusia-a-can-canals.html
CLASS:PUBLIC
END:VEVENT
END:VCALENDAR
