BEGIN:VCALENDAR
VERSION:2.0
CALSCALE:GREGORIAN
PRODID:-//Diputació de Barcelona//DibaCMS//EN
BEGIN:VEVENT
UID:23234
DTSTAMP:20260423T045956
DTSTART:20110312T084500
DTEND:20110312T184500
SUMMARY:II Trofeu de l'Anoia
LOCATION:
METHOD:PUBLISH
X-WR-CALNAME:e-seu@ajpiera.cat
X-WR-TIMEZONE:Europe/Madrid
DESCRIPTION:II Trofeu de l'Anoia

URI:https://www.viladepiera.cat/actualitat/agenda/ii-trofeu-de-lanoia.html
CLASS:PUBLIC
END:VEVENT
END:VCALENDAR
