BEGIN:VCALENDAR
VERSION:2.0
CALSCALE:GREGORIAN
PRODID:-//Diputació de Barcelona//DibaCMS//EN
BEGIN:VEVENT
UID:23237
DTSTAMP:20260423T110631
DTSTART:20110313T180000
DTEND:20110313T000000
SUMMARY:Diumenge de cinema
LOCATION:
METHOD:PUBLISH
X-WR-CALNAME:e-seu@ajpiera.cat
X-WR-TIMEZONE:Europe/Madrid
DESCRIPTION:Diumenge de cinema
URI:https://www.viladepiera.cat/actualitat/agenda/23237-diumenge-de-cinema.html
CLASS:PUBLIC
END:VEVENT
END:VCALENDAR
