BEGIN:VCALENDAR
VERSION:2.0
CALSCALE:GREGORIAN
PRODID:-//Diputació de Barcelona//DibaCMS//EN
BEGIN:VEVENT
UID:23238
DTSTAMP:20260423T111114
DTSTART:20110315T180000
DTEND:20110315T180000
SUMMARY:Club de lectura
LOCATION:
METHOD:PUBLISH
X-WR-CALNAME:e-seu@ajpiera.cat
X-WR-TIMEZONE:Europe/Madrid
DESCRIPTION:Club de lectura

URI:https://www.viladepiera.cat/actualitat/agenda/23238-club-de-lectura.html
CLASS:PUBLIC
END:VEVENT
END:VCALENDAR
