BEGIN:VCALENDAR
VERSION:2.0
CALSCALE:GREGORIAN
PRODID:-//Diputació de Barcelona//DibaCMS//EN
BEGIN:VEVENT
UID:23239
DTSTAMP:20260423T045119
DTSTART:20110316T190000
DTEND:20110316T000000
SUMMARY:Lliurament de premis
LOCATION:
METHOD:PUBLISH
X-WR-CALNAME:e-seu@ajpiera.cat
X-WR-TIMEZONE:Europe/Madrid
DESCRIPTION:Lliurament de premis
URI:https://www.viladepiera.cat/actualitat/agenda/lliurament-de-premis.html
CLASS:PUBLIC
END:VEVENT
END:VCALENDAR
