BEGIN:VCALENDAR
VERSION:2.0
CALSCALE:GREGORIAN
PRODID:-//Diputació de Barcelona//DibaCMS//EN
BEGIN:VEVENT
UID:23242
DTSTAMP:20260423T162956
DTSTART:20110318T190000
DTEND:20110318T200000
SUMMARY:Taller de cervesa casolana
LOCATION:
METHOD:PUBLISH
X-WR-CALNAME:e-seu@ajpiera.cat
X-WR-TIMEZONE:Europe/Madrid
DESCRIPTION:Taller de cervesa casolana
URI:https://www.viladepiera.cat/actualitat/agenda/taller-de-cervesa-casolana.html
CLASS:PUBLIC
END:VEVENT
END:VCALENDAR
