BEGIN:VCALENDAR
VERSION:2.0
CALSCALE:GREGORIAN
PRODID:-//Diputació de Barcelona//DibaCMS//EN
BEGIN:VEVENT
UID:23243
DTSTAMP:20260423T190834
DTSTART:20110318T190000
DTEND:20110318T000000
SUMMARY:Col·loqui: Testaments i herències
LOCATION:
METHOD:PUBLISH
X-WR-CALNAME:e-seu@ajpiera.cat
X-WR-TIMEZONE:Europe/Madrid
DESCRIPTION:Col·loqui: Testaments i herències
URI:https://www.viladepiera.cat/actualitat/agenda/colloqui-testaments-i-herencies.html
CLASS:PUBLIC
END:VEVENT
END:VCALENDAR
