BEGIN:VCALENDAR
VERSION:2.0
CALSCALE:GREGORIAN
PRODID:-//Diputació de Barcelona//DibaCMS//EN
BEGIN:VEVENT
UID:23244
DTSTAMP:20260423T094851
DTSTART:20110318T183000
DTEND:20110318T000000
SUMMARY:Circ Alves
LOCATION:
METHOD:PUBLISH
X-WR-CALNAME:e-seu@ajpiera.cat
X-WR-TIMEZONE:Europe/Madrid
DESCRIPTION:Circ Alves
URI:https://www.viladepiera.cat/actualitat/agenda/circ-alves.html
CLASS:PUBLIC
END:VEVENT
END:VCALENDAR
