BEGIN:VCALENDAR
VERSION:2.0
CALSCALE:GREGORIAN
PRODID:-//Diputació de Barcelona//DibaCMS//EN
BEGIN:VEVENT
UID:23246
DTSTAMP:20260423T082335
DTSTART:20110320T100000
DTEND:20110320T000000
SUMMARY:Sortida al Castell de la Ventosa
LOCATION:
METHOD:PUBLISH
X-WR-CALNAME:e-seu@ajpiera.cat
X-WR-TIMEZONE:Europe/Madrid
DESCRIPTION:Sortida al Castell de la Ventosa
URI:https://www.viladepiera.cat/actualitat/agenda/sortida-al-castell-de-la-ventosa.html
CLASS:PUBLIC
END:VEVENT
END:VCALENDAR
