BEGIN:VCALENDAR
VERSION:2.0
CALSCALE:GREGORIAN
PRODID:-//Diputació de Barcelona//DibaCMS//EN
BEGIN:VEVENT
UID:23248
DTSTAMP:20260423T083619
DTSTART:20110322T180000
DTEND:20110322T000000
SUMMARY:Contes a cau d'orella: Va de cavallers
LOCATION:
METHOD:PUBLISH
X-WR-CALNAME:e-seu@ajpiera.cat
X-WR-TIMEZONE:Europe/Madrid
DESCRIPTION:Contes a cau d'orella: Va de cavallers
URI:https://www.viladepiera.cat/actualitat/agenda/contes-a-cau-dorella-va-de-cavallers.html
CLASS:PUBLIC
END:VEVENT
END:VCALENDAR
