BEGIN:VCALENDAR
VERSION:2.0
CALSCALE:GREGORIAN
PRODID:-//Diputació de Barcelona//DibaCMS//EN
BEGIN:VEVENT
UID:23251
DTSTAMP:20260423T101357
DTSTART:20110325T190000
DTEND:20110325T000000
SUMMARY:Divendres de cine
LOCATION:
METHOD:PUBLISH
X-WR-CALNAME:e-seu@ajpiera.cat
X-WR-TIMEZONE:Europe/Madrid
DESCRIPTION:Divendres de cine
URI:https://www.viladepiera.cat/actualitat/agenda/23251-divendres-de-cine.html
CLASS:PUBLIC
END:VEVENT
END:VCALENDAR
