BEGIN:VCALENDAR
VERSION:2.0
CALSCALE:GREGORIAN
PRODID:-//Diputació de Barcelona//DibaCMS//EN
BEGIN:VEVENT
UID:23252
DTSTAMP:20260423T061535
DTSTART:20110325T190000
DTEND:20110325T000000
SUMMARY:Club de finances per a no financers
LOCATION:
METHOD:PUBLISH
X-WR-CALNAME:e-seu@ajpiera.cat
X-WR-TIMEZONE:Europe/Madrid
DESCRIPTION:Club de finances per a no financers
URI:https://www.viladepiera.cat/actualitat/agenda/23252-club-de-finances-per-a-no-financers.html
CLASS:PUBLIC
END:VEVENT
END:VCALENDAR
