BEGIN:VCALENDAR
VERSION:2.0
CALSCALE:GREGORIAN
PRODID:-//Diputació de Barcelona//DibaCMS//EN
BEGIN:VEVENT
UID:23253
DTSTAMP:20260423T083602
DTSTART:20110326T120000
DTEND:20110326T000000
SUMMARY:Inauguració «Escorxador»
LOCATION:
METHOD:PUBLISH
X-WR-CALNAME:e-seu@ajpiera.cat
X-WR-TIMEZONE:Europe/Madrid
DESCRIPTION:Inauguració «Escorxador»
URI:https://www.viladepiera.cat/actualitat/agenda/inauguracio-escorxador.html
CLASS:PUBLIC
END:VEVENT
END:VCALENDAR
