BEGIN:VCALENDAR
VERSION:2.0
CALSCALE:GREGORIAN
PRODID:-//Diputació de Barcelona//DibaCMS//EN
BEGIN:VEVENT
UID:23255
DTSTAMP:20260423T045818
DTSTART:20110327T100000
DTEND:20110327T000000
SUMMARY:Fira d'Artesans
LOCATION:
METHOD:PUBLISH
X-WR-CALNAME:e-seu@ajpiera.cat
X-WR-TIMEZONE:Europe/Madrid
DESCRIPTION:Fira d'Artesans
URI:https://www.viladepiera.cat/actualitat/agenda/23255-fira-dartesans.html
CLASS:PUBLIC
END:VEVENT
END:VCALENDAR
