BEGIN:VCALENDAR
VERSION:2.0
CALSCALE:GREGORIAN
PRODID:-//Diputació de Barcelona//DibaCMS//EN
BEGIN:VEVENT
UID:23257
DTSTAMP:20260423T134911
DTSTART:20110327T000000
DTEND:20110327T000000
SUMMARY:Dia d'Andalusia
LOCATION:
METHOD:PUBLISH
X-WR-CALNAME:e-seu@ajpiera.cat
X-WR-TIMEZONE:Europe/Madrid
DESCRIPTION:Dia d'Andalusia

URI:https://www.viladepiera.cat/actualitat/agenda/23257-dia-dandalusia.html
CLASS:PUBLIC
END:VEVENT
END:VCALENDAR
