BEGIN:VCALENDAR
VERSION:2.0
CALSCALE:GREGORIAN
PRODID:-//Diputació de Barcelona//DibaCMS//EN
BEGIN:VEVENT
UID:23262
DTSTAMP:20260423T110519
DTSTART:20110401T190000
DTEND:20110401T000000
SUMMARY:Inauguració de l'exposició: Montserrat dia i nit
LOCATION:
METHOD:PUBLISH
X-WR-CALNAME:e-seu@ajpiera.cat
X-WR-TIMEZONE:Europe/Madrid
DESCRIPTION:Inauguració de l'exposició: Montserrat dia i nit
URI:https://www.viladepiera.cat/actualitat/agenda/inauguracio-de-lexposicio-montserrat-dia-i-nit.html
CLASS:PUBLIC
END:VEVENT
END:VCALENDAR
