BEGIN:VCALENDAR
VERSION:2.0
CALSCALE:GREGORIAN
PRODID:-//Diputació de Barcelona//DibaCMS//EN
BEGIN:VEVENT
UID:23263
DTSTAMP:20260423T060416
DTSTART:20110402T083000
DTEND:20110402T000000
SUMMARY:Sortida a Pujalt-Cervera-Agramunt
LOCATION:
METHOD:PUBLISH
X-WR-CALNAME:e-seu@ajpiera.cat
X-WR-TIMEZONE:Europe/Madrid
DESCRIPTION:Sortida a Pujalt-Cervera-Agramunt
URI:https://www.viladepiera.cat/actualitat/agenda/sortida-a-pujalt-cervera-agramunt.html
CLASS:PUBLIC
END:VEVENT
END:VCALENDAR
