BEGIN:VCALENDAR
VERSION:2.0
CALSCALE:GREGORIAN
PRODID:-//Diputació de Barcelona//DibaCMS//EN
BEGIN:VEVENT
UID:23264
DTSTAMP:20260423T102620
DTSTART:20110403T090000
DTEND:20110403T140000
SUMMARY:5a Malalts de Bici
LOCATION:
METHOD:PUBLISH
X-WR-CALNAME:e-seu@ajpiera.cat
X-WR-TIMEZONE:Europe/Madrid
DESCRIPTION:5a Malalts de Bici
URI:https://www.viladepiera.cat/actualitat/agenda/23264-5a-malalts-de-bici.html
CLASS:PUBLIC
END:VEVENT
END:VCALENDAR
