BEGIN:VCALENDAR
VERSION:2.0
CALSCALE:GREGORIAN
PRODID:-//Diputació de Barcelona//DibaCMS//EN
BEGIN:VEVENT
UID:23267
DTSTAMP:20260423T034917
DTSTART:20110403T100000
DTEND:20110403T000000
SUMMARY:Excursió a la Foradada
LOCATION:
METHOD:PUBLISH
X-WR-CALNAME:e-seu@ajpiera.cat
X-WR-TIMEZONE:Europe/Madrid
DESCRIPTION:Excursió a la Foradada
URI:https://www.viladepiera.cat/actualitat/agenda/23267-excursio-a-la-foradada.html
CLASS:PUBLIC
END:VEVENT
END:VCALENDAR
