BEGIN:VCALENDAR
VERSION:2.0
CALSCALE:GREGORIAN
PRODID:-//Diputació de Barcelona//DibaCMS//EN
BEGIN:VEVENT
UID:23268
DTSTAMP:20260423T073853
DTSTART:20110404T190000
DTEND:20110404T000000
SUMMARY:Audició de l'Aula de Música
LOCATION:
METHOD:PUBLISH
X-WR-CALNAME:e-seu@ajpiera.cat
X-WR-TIMEZONE:Europe/Madrid
DESCRIPTION:Audició de l'Aula de Música
URI:https://www.viladepiera.cat/actualitat/agenda/audicio-de-laula-de-musica.html
CLASS:PUBLIC
END:VEVENT
END:VCALENDAR
