BEGIN:VCALENDAR
VERSION:2.0
CALSCALE:GREGORIAN
PRODID:-//Diputació de Barcelona//DibaCMS//EN
BEGIN:VEVENT
UID:23269
DTSTAMP:20260423T132743
DTSTART:20110406T183000
DTEND:20110406T000000
SUMMARY:Com conto un conte?
LOCATION:
METHOD:PUBLISH
X-WR-CALNAME:e-seu@ajpiera.cat
X-WR-TIMEZONE:Europe/Madrid
DESCRIPTION:Com conto un conte?
URI:https://www.viladepiera.cat/actualitat/agenda/com-conto-un-conte.html
CLASS:PUBLIC
END:VEVENT
END:VCALENDAR
