BEGIN:VCALENDAR
VERSION:2.0
CALSCALE:GREGORIAN
PRODID:-//Diputació de Barcelona//DibaCMS//EN
BEGIN:VEVENT
UID:23270
DTSTAMP:20260423T121900
DTSTART:20110406T093000
DTEND:20110406T113000
SUMMARY:Passejada popular
LOCATION:
METHOD:PUBLISH
X-WR-CALNAME:e-seu@ajpiera.cat
X-WR-TIMEZONE:Europe/Madrid
DESCRIPTION:Passejada popular
URI:https://www.viladepiera.cat/actualitat/agenda/passejada-popular.html
CLASS:PUBLIC
END:VEVENT
END:VCALENDAR
