BEGIN:VCALENDAR
VERSION:2.0
CALSCALE:GREGORIAN
PRODID:-//Diputació de Barcelona//DibaCMS//EN
BEGIN:VEVENT
UID:23272
DTSTAMP:20260423T092142
DTSTART:20110408T190000
DTEND:20110408T000000
SUMMARY:Xerrada: Retallem despeses militars dels impostos
LOCATION:
METHOD:PUBLISH
X-WR-CALNAME:e-seu@ajpiera.cat
X-WR-TIMEZONE:Europe/Madrid
DESCRIPTION:Xerrada: Retallem despeses militars dels impostos
URI:https://www.viladepiera.cat/actualitat/agenda/xerrada-retallem-despeses-militars-dels-impostos.html
CLASS:PUBLIC
END:VEVENT
END:VCALENDAR
