BEGIN:VCALENDAR
VERSION:2.0
CALSCALE:GREGORIAN
PRODID:-//Diputació de Barcelona//DibaCMS//EN
BEGIN:VEVENT
UID:23275
DTSTAMP:20260423T074504
DTSTART:20110412T190000
DTEND:20110412T000000
SUMMARY:Xerrada: Trucs pràctics de jardineria
LOCATION:
METHOD:PUBLISH
X-WR-CALNAME:e-seu@ajpiera.cat
X-WR-TIMEZONE:Europe/Madrid
DESCRIPTION:Xerrada: Trucs pràctics de jardineria
URI:https://www.viladepiera.cat/actualitat/agenda/xerrada-trucs-practics-de-jardineria.html
CLASS:PUBLIC
END:VEVENT
END:VCALENDAR
