BEGIN:VCALENDAR
VERSION:2.0
CALSCALE:GREGORIAN
PRODID:-//Diputació de Barcelona//DibaCMS//EN
BEGIN:VEVENT
UID:23276
DTSTAMP:20260423T102137
DTSTART:20110413T193000
DTEND:20110413T000000
SUMMARY:Presentació del llibre de Margarita Alejandro
LOCATION:
METHOD:PUBLISH
X-WR-CALNAME:e-seu@ajpiera.cat
X-WR-TIMEZONE:Europe/Madrid
DESCRIPTION:Presentació del llibre de Margarita Alejandro
URI:https://www.viladepiera.cat/actualitat/agenda/presentacio-del-llibre-de-margarita-alejandro.html
CLASS:PUBLIC
END:VEVENT
END:VCALENDAR
