BEGIN:VCALENDAR
VERSION:2.0
CALSCALE:GREGORIAN
PRODID:-//Diputació de Barcelona//DibaCMS//EN
BEGIN:VEVENT
UID:23281
DTSTAMP:20260423T035821
DTSTART:20110415T230000
DTEND:20110415T000000
SUMMARY:Concert: HDI i Rumbo bar
LOCATION:
METHOD:PUBLISH
X-WR-CALNAME:e-seu@ajpiera.cat
X-WR-TIMEZONE:Europe/Madrid
DESCRIPTION:Concert: HDI i Rumbo bar
URI:https://www.viladepiera.cat/actualitat/agenda/concert-hdi-i-rumbo-bar.html
CLASS:PUBLIC
END:VEVENT
END:VCALENDAR
