BEGIN:VCALENDAR
VERSION:2.0
CALSCALE:GREGORIAN
PRODID:-//Diputació de Barcelona//DibaCMS//EN
BEGIN:VEVENT
UID:23283
DTSTAMP:20260423T052731
DTSTART:20110416T000000
DTEND:20110417T000000
SUMMARY:Exposició al Castell de Jaume I
LOCATION:
METHOD:PUBLISH
X-WR-CALNAME:e-seu@ajpiera.cat
X-WR-TIMEZONE:Europe/Madrid
DESCRIPTION:Exposició al Castell de Jaume I
URI:https://www.viladepiera.cat/actualitat/agenda/exposicio-al-castell-de-jaume-i.html
CLASS:PUBLIC
END:VEVENT
END:VCALENDAR
