BEGIN:VCALENDAR
VERSION:2.0
CALSCALE:GREGORIAN
PRODID:-//Diputació de Barcelona//DibaCMS//EN
BEGIN:VEVENT
UID:23284
DTSTAMP:20260423T102204
DTSTART:20110416T000000
DTEND:20110417T000000
SUMMARY:Exposició: Pintures recents
LOCATION:
METHOD:PUBLISH
X-WR-CALNAME:e-seu@ajpiera.cat
X-WR-TIMEZONE:Europe/Madrid
DESCRIPTION:Exposició: Pintures recents
URI:https://www.viladepiera.cat/actualitat/agenda/exposicio-pintures-recents.html
CLASS:PUBLIC
END:VEVENT
END:VCALENDAR
