BEGIN:VCALENDAR
VERSION:2.0
CALSCALE:GREGORIAN
PRODID:-//Diputació de Barcelona//DibaCMS//EN
BEGIN:VEVENT
UID:23288
DTSTAMP:20260423T023946
DTSTART:20110422T000000
DTEND:20110422T000000
SUMMARY:Activitats esportives
LOCATION:
METHOD:PUBLISH
X-WR-CALNAME:e-seu@ajpiera.cat
X-WR-TIMEZONE:Europe/Madrid
DESCRIPTION:Activitats esportives
URI:https://www.viladepiera.cat/actualitat/agenda/23288-activitats-esportives.html
CLASS:PUBLIC
END:VEVENT
END:VCALENDAR
