BEGIN:VCALENDAR
VERSION:2.0
CALSCALE:GREGORIAN
PRODID:-//Diputació de Barcelona//DibaCMS//EN
BEGIN:VEVENT
UID:23289
DTSTAMP:20260423T090731
DTSTART:20110423T000000
DTEND:20110423T000000
SUMMARY:Sant Jordi a la Venta-Can Mussarro
LOCATION:
METHOD:PUBLISH
X-WR-CALNAME:e-seu@ajpiera.cat
X-WR-TIMEZONE:Europe/Madrid
DESCRIPTION:Sant Jordi a la Venta-Can Mussarro

URI:https://www.viladepiera.cat/actualitat/agenda/sant-jordi-a-la-venta-can-mussarro.html
CLASS:PUBLIC
END:VEVENT
END:VCALENDAR
