BEGIN:VCALENDAR
VERSION:2.0
CALSCALE:GREGORIAN
PRODID:-//Diputació de Barcelona//DibaCMS//EN
BEGIN:VEVENT
UID:23293
DTSTAMP:20260423T075648
DTSTART:20110426T150000
DTEND:20110426T000000
SUMMARY:Ple-Sorteig
LOCATION:
METHOD:PUBLISH
X-WR-CALNAME:e-seu@ajpiera.cat
X-WR-TIMEZONE:Europe/Madrid
DESCRIPTION:Ple-Sorteig
URI:https://www.viladepiera.cat/actualitat/agenda/23293-ple-sorteig.html
CLASS:PUBLIC
END:VEVENT
END:VCALENDAR
