BEGIN:VCALENDAR
VERSION:2.0
CALSCALE:GREGORIAN
PRODID:-//Diputació de Barcelona//DibaCMS//EN
BEGIN:VEVENT
UID:23295
DTSTAMP:20260423T061754
DTSTART:20110428T000000
DTEND:20110428T000000
SUMMARY:Activitats per als menuts
LOCATION:
METHOD:PUBLISH
X-WR-CALNAME:e-seu@ajpiera.cat
X-WR-TIMEZONE:Europe/Madrid
DESCRIPTION:Activitats per als menuts
URI:https://www.viladepiera.cat/actualitat/agenda/23295-activitats-per-als-menuts.html
CLASS:PUBLIC
END:VEVENT
END:VCALENDAR
