BEGIN:VCALENDAR
VERSION:2.0
CALSCALE:GREGORIAN
PRODID:-//Diputació de Barcelona//DibaCMS//EN
BEGIN:VEVENT
UID:23296
DTSTAMP:20260423T062708
DTSTART:20110428T000000
DTEND:20110428T000000
SUMMARY:Diada del Sant Crist
LOCATION:
METHOD:PUBLISH
X-WR-CALNAME:e-seu@ajpiera.cat
X-WR-TIMEZONE:Europe/Madrid
DESCRIPTION:Diada del Sant Crist
URI:https://www.viladepiera.cat/actualitat/agenda/23296-diada-del-sant-crist.html
CLASS:PUBLIC
END:VEVENT
END:VCALENDAR
