BEGIN:VCALENDAR
VERSION:2.0
CALSCALE:GREGORIAN
PRODID:-//Diputació de Barcelona//DibaCMS//EN
BEGIN:VEVENT
UID:23301
DTSTAMP:20260423T034840
DTSTART:20110429T190000
DTEND:20110429T000000
SUMMARY:Els beneficis de l'esport per a les persones amb discapacitat
LOCATION:
METHOD:PUBLISH
X-WR-CALNAME:e-seu@ajpiera.cat
X-WR-TIMEZONE:Europe/Madrid
DESCRIPTION:Els beneficis de l'esport per a les persones amb discapacitat
URI:https://www.viladepiera.cat/actualitat/agenda/els-beneficis-de-lesport-per-a-les-persones-amb-discapacitat.html
CLASS:PUBLIC
END:VEVENT
END:VCALENDAR
