BEGIN:VCALENDAR
VERSION:2.0
CALSCALE:GREGORIAN
PRODID:-//Diputació de Barcelona//DibaCMS//EN
BEGIN:VEVENT
UID:23302
DTSTAMP:20260423T085429
DTSTART:20110430T110000
DTEND:20110430T140000
SUMMARY:Fira d'intercanvi
LOCATION:
METHOD:PUBLISH
X-WR-CALNAME:e-seu@ajpiera.cat
X-WR-TIMEZONE:Europe/Madrid
DESCRIPTION:Fira d'intercanvi
URI:https://www.viladepiera.cat/actualitat/agenda/23302-fira-dintercanvi.html
CLASS:PUBLIC
END:VEVENT
END:VCALENDAR
